BEGIN:VCALENDAR
VERSION:2.0
PRODID:-//pretix//pretix.eu//
BEGIN:VTIMEZONE
TZID:Europe/Berlin
BEGIN:STANDARD
DTSTART:20001029T040000
RRULE:FREQ=YEARLY;BYDAY=-1SU;BYMONTH=10
TZNAME:CET
TZOFFSETFROM:+0200
TZOFFSETTO:+0100
END:STANDARD
BEGIN:DAYLIGHT
DTSTART:20000326T030000
RRULE:FREQ=YEARLY;BYDAY=-1SU;BYMONTH=3
TZNAME:CEST
TZOFFSETFROM:+0100
TZOFFSETTO:+0200
END:DAYLIGHT
END:VTIMEZONE
BEGIN:VEVENT
UID:pretix-innoport-sunaction3-0@ticket.innoport-reutlingen.de
DTSTART;TZID=Europe/Berlin:20260804T090000
DTEND;TZID=Europe/Berlin:20260807T150000
DESCRIPTION:Tickets: https://ticket.innoport-reutlingen.de/sunaction3/\nEin
 lass: 04.08.2026 08:45\nVeranstalter: INNOPORT
DTSTAMP:20260421T125329Z
LOCATION:INNOPORT Reutlingen
SUMMARY:Ferienprogramm - LEGO - Stop-Motion-Video
END:VEVENT
END:VCALENDAR
